BEGIN:VCALENDAR
VERSION:2.0
PRODID:icalendar-ruby
CALSCALE:GREGORIAN
METHOD:PUBLISH
BEGIN:VEVENT
DTSTAMP:20260419T222319Z
UID:11-450420@emmanuelnashville.org
DTSTART:20260917T000000Z
DTEND:20260917T003000Z
CLASS:PUBLIC
CREATED:20260419T160414
DESCRIPTION:
LAST-MODIFIED:20260419T160414
LOCATION:119 Center St. Old Hickory\, TN 37138
SUMMARY:Altar Prayer
URL;VALUE=URI:https://www.emmanuelnashville.org/events/altar-prayer/2026-09
 -16
ATTACH;FILENAME=486098063_1078211504333954_5616204047146895527_n.png;FMTTYP
 E=image/png:https://dq5pwpg1q8ru0.cloudfront.net/2026/01/17/08/18/29/9563a
 386-41ca-4513-a97b-71954cbbf698/486098063_1078211504333954_561620404714689
 5527_n.png
END:VEVENT
END:VCALENDAR
