BEGIN:VCALENDAR
VERSION:2.0
PRODID:icalendar-ruby
CALSCALE:GREGORIAN
METHOD:PUBLISH
BEGIN:VEVENT
DTSTAMP:20260420T070050Z
UID:12-451205@emmanuelnashville.org
DTSTART:20261001T003000Z
DTEND:20261001T013000Z
CLASS:PUBLIC
CREATED:20260419T232254
DESCRIPTION:
LAST-MODIFIED:20260419T232254
LOCATION:119 Center St. Old Hickory\, TN 37138
SUMMARY:Mid-Week Bible Study
URL;VALUE=URI:https://www.emmanuelnashville.org/events/mid-week-bible-study
 /2026-09-30
ATTACH;FILENAME=Screenshot-2026-01-04-at-7.35.38-PM.png;FMTTYPE=image/png:h
 ttps://dq5pwpg1q8ru0.cloudfront.net/2026/01/11/15/18/20/b769a57a-eb53-4532
 -8aba-1b7cafff6c1e/Screenshot-2026-01-04-at-7.35.38-PM.png
END:VEVENT
END:VCALENDAR
