BEGIN:VCALENDAR
VERSION:2.0
PRODID:icalendar-ruby
CALSCALE:GREGORIAN
METHOD:PUBLISH
BEGIN:VEVENT
DTSTAMP:20260422T112357Z
UID:12-456019@emmanuelnashville.org
DTSTART:20261022T003000Z
DTEND:20261022T013000Z
CLASS:PUBLIC
CREATED:20260421T204234
DESCRIPTION:
LAST-MODIFIED:20260421T204234
LOCATION:119 Center St. Old Hickory\, TN 37138
SUMMARY:Mid-Week Bible Study
URL;VALUE=URI:https://www.emmanuelnashville.org/events/mid-week-bible-study
 /2026-10-21
ATTACH;FILENAME=Screenshot-2026-01-04-at-7.35.38-PM.png;FMTTYPE=image/png:h
 ttps://dq5pwpg1q8ru0.cloudfront.net/2026/01/11/15/18/20/b769a57a-eb53-4532
 -8aba-1b7cafff6c1e/Screenshot-2026-01-04-at-7.35.38-PM.png
END:VEVENT
END:VCALENDAR
