BEGIN:VCALENDAR
VERSION:2.0
PRODID:icalendar-ruby
CALSCALE:GREGORIAN
METHOD:PUBLISH
BEGIN:VEVENT
DTSTAMP:20260423T203647Z
UID:5-459268@emmanuelnashville.org
DTSTART:20261004T150000Z
DTEND:20261004T160000Z
CLASS:PUBLIC
CREATED:20260423T134234
DESCRIPTION:Sunday Worship
LAST-MODIFIED:20260423T134234
LOCATION:
SUMMARY:Sunday Worship
URL;VALUE=URI:https://www.emmanuelnashville.org/events/sunday-worship/2026-
 10-04
END:VEVENT
END:VCALENDAR
