BEGIN:VCALENDAR
VERSION:2.0
PRODID:icalendar-ruby
CALSCALE:GREGORIAN
METHOD:PUBLISH
BEGIN:VEVENT
DTSTAMP:20260423T220749Z
UID:5-459641@emmanuelnashville.org
DTSTART:20261011T150000Z
DTEND:20261011T160000Z
CLASS:PUBLIC
CREATED:20260423T163658
DESCRIPTION:Sunday Worship
LAST-MODIFIED:20260423T163658
LOCATION:
SUMMARY:Sunday Worship
URL;VALUE=URI:https://www.emmanuelnashville.org/events/sunday-worship/2026-
 10-11
END:VEVENT
END:VCALENDAR
