BEGIN:VCALENDAR
VERSION:2.0
PRODID:icalendar-ruby
CALSCALE:GREGORIAN
METHOD:PUBLISH
BEGIN:VEVENT
DTSTAMP:20260425T110733Z
UID:5-462619@emmanuelnashville.org
DTSTART:20261025T150000Z
DTEND:20261025T160000Z
CLASS:PUBLIC
CREATED:20260424T215618
DESCRIPTION:Sunday Worship
LAST-MODIFIED:20260424T215618
LOCATION:
SUMMARY:Sunday Worship
URL;VALUE=URI:https://www.emmanuelnashville.org/events/sunday-worship/2026-
 10-25
END:VEVENT
END:VCALENDAR
