BEGIN:VCALENDAR
VERSION:2.0
PRODID:icalendar-ruby
CALSCALE:GREGORIAN
METHOD:PUBLISH
BEGIN:VEVENT
DTSTAMP:20260425T124754Z
UID:5-462992@emmanuelnashville.org
DTSTART:20261101T160000Z
DTEND:20261101T170000Z
CLASS:PUBLIC
CREATED:20260425T073924
DESCRIPTION:Sunday Worship
LAST-MODIFIED:20260425T073924
LOCATION:
SUMMARY:Sunday Worship
URL;VALUE=URI:https://www.emmanuelnashville.org/events/sunday-worship/2026-
 11-01
END:VEVENT
END:VCALENDAR
